Package: RepViz Version: 1.18.0 Command: /Library/Frameworks/R.framework/Resources/bin/R CMD check --install=check:RepViz.install-out.txt --library=/Library/Frameworks/R.framework/Resources/library --no-vignettes --timings RepViz_1.18.0.tar.gz StartedAt: 2024-03-03 22:54:19 -0500 (Sun, 03 Mar 2024) EndedAt: 2024-03-03 22:56:53 -0500 (Sun, 03 Mar 2024) EllapsedTime: 154.5 seconds RetCode: 0 Status: WARNINGS CheckDir: RepViz.Rcheck Warnings: 3