Package: RepViz Version: 1.18.0 Command: /Library/Frameworks/R.framework/Resources/bin/R CMD build --keep-empty-dirs --no-resave-data RepViz StartedAt: 2024-03-03 17:59:56 -0500 (Sun, 03 Mar 2024) EndedAt: 2024-03-03 18:00:39 -0500 (Sun, 03 Mar 2024) EllapsedTime: 43.0 seconds RetCode: 0 Status: OK PackageFile: RepViz_1.18.0.tar.gz PackageFileSize: 255.3 KiB