Package: RepViz Version: 1.18.0 Command: /home/biocbuild/R/R-4.3.1/bin/R CMD build --keep-empty-dirs --no-resave-data RepViz StartedAt: 2023-11-02 05:07:04 -0000 (Thu, 02 Nov 2023) EndedAt: 2023-11-02 05:07:50 -0000 (Thu, 02 Nov 2023) EllapsedTime: 46.1 seconds RetCode: 0 Status: OK PackageFile: RepViz_1.18.0.tar.gz PackageFileSize: 255.1 KiB