Package: RegEnrich Version: 1.12.1 Command: /home/biocbuild/bbs-3.18-bioc/R/bin/R CMD build --keep-empty-dirs --no-resave-data RegEnrich StartedAt: 2024-04-15 18:46:53 -0400 (Mon, 15 Apr 2024) EndedAt: 2024-04-15 18:51:26 -0400 (Mon, 15 Apr 2024) EllapsedTime: 273.0 seconds RetCode: 0 Status: OK PackageFile: RegEnrich_1.12.1.tar.gz PackageFileSize: 1.136 MiB