Package: RefPlus Version: 1.72.0 Command: /home/biocbuild/R/R-4.3.1/bin/R CMD build --keep-empty-dirs --no-resave-data RefPlus StartedAt: 2023-11-02 05:04:03 -0000 (Thu, 02 Nov 2023) EndedAt: 2023-11-02 05:04:40 -0000 (Thu, 02 Nov 2023) EllapsedTime: 37.0 seconds RetCode: 0 Status: OK PackageFile: RefPlus_1.72.0.tar.gz PackageFileSize: 1.51 MiB