Package: ReadqPCR Version: 1.48.0 Command: /home/biocbuild/R/R-4.3.1/bin/R CMD INSTALL ReadqPCR StartedAt: 2023-11-01 20:06:03 -0000 (Wed, 01 Nov 2023) EndedAt: 2023-11-01 20:06:24 -0000 (Wed, 01 Nov 2023) EllapsedTime: 20.7 seconds RetCode: 0 Status: OK