Package: ReactomeGSA Version: 1.16.1 Command: /home/biocbuild/bbs-3.18-bioc/R/bin/R CMD build --keep-empty-dirs --no-resave-data ReactomeGSA StartedAt: 2024-04-15 18:46:09 -0400 (Mon, 15 Apr 2024) EndedAt: 2024-04-15 18:48:30 -0400 (Mon, 15 Apr 2024) EllapsedTime: 141.1 seconds RetCode: 0 Status: OK PackageFile: ReactomeGSA_1.16.1.tar.gz PackageFileSize: 234.9 KiB