Package: ReactomeGSA Version: 1.16.1 Command: /Library/Frameworks/R.framework/Resources/bin/R CMD build --keep-empty-dirs --no-resave-data ReactomeGSA StartedAt: 2024-04-15 21:11:55 -0400 (Mon, 15 Apr 2024) EndedAt: 2024-04-15 21:16:02 -0400 (Mon, 15 Apr 2024) EllapsedTime: 246.9 seconds RetCode: 0 Status: OK PackageFile: ReactomeGSA_1.16.1.tar.gz PackageFileSize: 351.4 KiB