Package: ReactomeGSA Version: 1.16.1 Command: rm -rf ReactomeGSA.buildbin-libdir && mkdir ReactomeGSA.buildbin-libdir && /Users/biocbuild/BBS/utils/build-universal.sh ReactomeGSA_1.16.1.tar.gz /Library/Frameworks/R.framework/Resources/bin/R ReactomeGSA.buildbin-libdir StartedAt: 2024-04-16 12:31:04 -0400 (Tue, 16 Apr 2024) EndedAt: 2024-04-16 12:31:18 -0400 (Tue, 16 Apr 2024) EllapsedTime: 14.1 seconds RetCode: 0 Status: OK PackageFile: ReactomeGSA_1.16.1.tgz PackageFileSize: 642 KiB