Package: ReactomeGSA Version: 1.16.1 Command: /Library/Frameworks/R.framework/Resources/bin/R CMD check --install=check:ReactomeGSA.install-out.txt --library=/Library/Frameworks/R.framework/Resources/library --no-vignettes --timings ReactomeGSA_1.16.1.tar.gz StartedAt: 2024-03-03 22:51:38 -0500 (Sun, 03 Mar 2024) EndedAt: 2024-03-03 23:06:21 -0500 (Sun, 03 Mar 2024) EllapsedTime: 882.6 seconds RetCode: 0 Status: OK CheckDir: ReactomeGSA.Rcheck Warnings: 0