Package: ReactomeGSA Version: 1.16.1 Command: /Library/Frameworks/R.framework/Resources/bin/R CMD build --keep-empty-dirs --no-resave-data ReactomeGSA StartedAt: 2024-03-03 17:58:06 -0500 (Sun, 03 Mar 2024) EndedAt: 2024-03-03 18:01:14 -0500 (Sun, 03 Mar 2024) EllapsedTime: 188.6 seconds RetCode: 0 Status: OK PackageFile: ReactomeGSA_1.16.1.tar.gz PackageFileSize: 258.3 KiB