Package: ReactomeGSA Version: 1.16.1 Command: rm -rf ReactomeGSA.buildbin-libdir && mkdir ReactomeGSA.buildbin-libdir && /Users/biocbuild/BBS/utils/build-universal.sh ReactomeGSA_1.16.1.tar.gz /Library/Frameworks/R.framework/Resources/bin/R ReactomeGSA.buildbin-libdir StartedAt: 2024-03-04 00:58:50 -0500 (Mon, 04 Mar 2024) EndedAt: 2024-03-04 00:59:01 -0500 (Mon, 04 Mar 2024) EllapsedTime: 11.5 seconds RetCode: 0 Status: OK PackageFile: ReactomeGSA_1.16.1.tgz PackageFileSize: 548.4 KiB