Package: ReactomeGSA Version: 1.16.0 Command: /home/biocbuild/R/R-4.3.1/bin/R CMD build --keep-empty-dirs --no-resave-data ReactomeGSA StartedAt: 2023-11-02 05:02:40 -0000 (Thu, 02 Nov 2023) EndedAt: 2023-11-02 05:03:18 -0000 (Thu, 02 Nov 2023) EllapsedTime: 38.1 seconds RetCode: 1 Status: ERROR PackageFile: None PackageFileSize: NA