Package: ReUseData Version: 1.2.2 Command: /Library/Frameworks/R.framework/Resources/bin/R CMD check --install=check:ReUseData.install-out.txt --library=/Library/Frameworks/R.framework/Resources/library --no-vignettes --timings ReUseData_1.2.2.tar.gz StartedAt: 2024-04-16 07:42:06 -0400 (Tue, 16 Apr 2024) EndedAt: 2024-04-16 07:46:31 -0400 (Tue, 16 Apr 2024) EllapsedTime: 265.5 seconds RetCode: 0 Status: OK CheckDir: ReUseData.Rcheck Warnings: 0