Package: ReQON Version: 1.48.0 Command: /Library/Frameworks/R.framework/Resources/bin/R CMD build --keep-empty-dirs --no-resave-data ReQON StartedAt: 2024-03-03 17:59:56 -0500 (Sun, 03 Mar 2024) EndedAt: 2024-03-03 17:59:57 -0500 (Sun, 03 Mar 2024) EllapsedTime: 1.1 seconds RetCode: 1 Status: ERROR PackageFile: None PackageFileSize: NA