Package: Rcwl Version: 1.18.0 Command: /Library/Frameworks/R.framework/Resources/bin/R CMD INSTALL Rcwl StartedAt: 2024-03-03 15:26:55 -0500 (Sun, 03 Mar 2024) EndedAt: 2024-03-03 15:27:16 -0500 (Sun, 03 Mar 2024) EllapsedTime: 21.1 seconds RetCode: 0 Status: OK