Package: Rcwl Version: 1.18.0 Maintainer: Qiang Hu MaintainerEmail: qiang.hu at roswellpark.org git_url: https://git.bioconductor.org/packages/Rcwl git_branch: RELEASE_3_18 git_last_commit: 4bb22da git_last_commit_date: 2023-10-24 11:10:54 -0400 (Tue, 24 Oct 2023)