Package: Rcollectl Version: 1.2.0 Command: /home/biocbuild/R/R-4.3.1/bin/R CMD build --keep-empty-dirs --no-resave-data Rcollectl StartedAt: 2023-11-02 05:01:05 -0000 (Thu, 02 Nov 2023) EndedAt: 2023-11-02 05:01:26 -0000 (Thu, 02 Nov 2023) EllapsedTime: 21.0 seconds RetCode: 1 Status: ERROR PackageFile: None PackageFileSize: NA