Package: RcisTarget Version: 1.22.0 Command: F:\biocbuild\bbs-3.18-bioc\R\bin\R.exe CMD INSTALL RcisTarget StartedAt: 2024-04-15 16:23:10 -0400 (Mon, 15 Apr 2024) EndedAt: 2024-04-15 16:24:07 -0400 (Mon, 15 Apr 2024) EllapsedTime: 57.4 seconds RetCode: 0 Status: OK