Package: RcisTarget Version: 1.22.0 Command: /Library/Frameworks/R.framework/Resources/bin/R CMD build --keep-empty-dirs --no-resave-data RcisTarget StartedAt: 2024-04-15 21:10:04 -0400 (Mon, 15 Apr 2024) EndedAt: 2024-04-15 21:10:33 -0400 (Mon, 15 Apr 2024) EllapsedTime: 28.8 seconds RetCode: 1 Status: ERROR PackageFile: None PackageFileSize: NA