Package: RcisTarget Version: 1.22.0 Command: /Library/Frameworks/R.framework/Resources/bin/R CMD INSTALL RcisTarget StartedAt: 2024-03-03 15:32:17 -0500 (Sun, 03 Mar 2024) EndedAt: 2024-03-03 15:32:31 -0500 (Sun, 03 Mar 2024) EllapsedTime: 14.6 seconds RetCode: 1 Status: ERROR