Package: RcisTarget Version: 1.22.0 Command: /Library/Frameworks/R.framework/Resources/bin/R CMD check --install=check:RcisTarget.install-out.txt --library=/Library/Frameworks/R.framework/Resources/library --no-vignettes --timings RcisTarget_1.22.0.tar.gz StartedAt: 2024-02-21 22:29:09 -0500 (Wed, 21 Feb 2024) EndedAt: 2024-02-21 22:36:03 -0500 (Wed, 21 Feb 2024) EllapsedTime: 414.3 seconds RetCode: 0 Status: OK CheckDir: RcisTarget.Rcheck Warnings: 0