Package: RcisTarget Version: 1.22.0 Command: /Library/Frameworks/R.framework/Resources/bin/R CMD build --keep-empty-dirs --no-resave-data RcisTarget StartedAt: 2024-03-03 17:57:20 -0500 (Sun, 03 Mar 2024) EndedAt: 2024-03-03 17:57:34 -0500 (Sun, 03 Mar 2024) EllapsedTime: 13.5 seconds RetCode: 1 Status: ERROR PackageFile: None PackageFileSize: NA