Package: Rbwa Version: 1.6.0 Command: /home/biocbuild/R/R-4.3.1/bin/R CMD INSTALL Rbwa StartedAt: 2023-11-01 20:04:57 -0000 (Wed, 01 Nov 2023) EndedAt: 2023-11-01 20:05:19 -0000 (Wed, 01 Nov 2023) EllapsedTime: 22.9 seconds RetCode: 0 Status: OK