Package: Rbowtie2 Version: 2.8.0 Command: /home/biocbuild/bbs-3.18-bioc/R/bin/R CMD build --keep-empty-dirs --no-resave-data Rbowtie2 StartedAt: 2024-04-15 18:44:14 -0400 (Mon, 15 Apr 2024) EndedAt: 2024-04-15 18:48:55 -0400 (Mon, 15 Apr 2024) EllapsedTime: 280.4 seconds RetCode: 0 Status: OK PackageFile: Rbowtie2_2.8.0.tar.gz PackageFileSize: 1.711 MiB