Package: Rbowtie2 Version: 2.8.0 Command: /Library/Frameworks/R.framework/Resources/bin/R CMD INSTALL Rbowtie2 StartedAt: 2024-04-15 15:27:07 -0400 (Mon, 15 Apr 2024) EndedAt: 2024-04-15 15:34:59 -0400 (Mon, 15 Apr 2024) EllapsedTime: 472.3 seconds RetCode: 0 Status: OK