Package: Rbowtie Version: 1.42.0 Command: F:\biocbuild\bbs-3.18-bioc\R\bin\R.exe CMD INSTALL Rbowtie StartedAt: 2024-04-15 15:40:08 -0400 (Mon, 15 Apr 2024) EndedAt: 2024-04-15 15:41:53 -0400 (Mon, 15 Apr 2024) EllapsedTime: 105.3 seconds RetCode: 0 Status: OK