Package: Rbowtie Version: 1.42.0 Command: rm -rf Rbowtie.buildbin-libdir && mkdir Rbowtie.buildbin-libdir && F:\biocbuild\bbs-3.18-bioc\R\bin\R.exe CMD INSTALL --build --library=Rbowtie.buildbin-libdir Rbowtie_1.42.0.tar.gz StartedAt: 2024-04-16 07:30:42 -0400 (Tue, 16 Apr 2024) EndedAt: 2024-04-16 07:32:49 -0400 (Tue, 16 Apr 2024) EllapsedTime: 126.6 seconds RetCode: 0 Status: OK PackageFile: Rbowtie_1.42.0.zip PackageFileSize: 6.588 MiB