Package: Rbowtie Version: 1.42.0 Command: /home/biocbuild/bbs-3.18-bioc/R/bin/R CMD INSTALL Rbowtie StartedAt: 2024-04-15 15:08:44 -0400 (Mon, 15 Apr 2024) EndedAt: 2024-04-15 15:10:09 -0400 (Mon, 15 Apr 2024) EllapsedTime: 85.1 seconds RetCode: 0 Status: OK