Package: Rbowtie Version: 1.42.0 Command: /home/biocbuild/bbs-3.18-bioc/R/bin/R CMD check --install=check:Rbowtie.install-out.txt --library=/home/biocbuild/bbs-3.18-bioc/R/site-library --timings Rbowtie_1.42.0.tar.gz StartedAt: 2024-04-16 02:46:01 -0400 (Tue, 16 Apr 2024) EndedAt: 2024-04-16 02:46:25 -0400 (Tue, 16 Apr 2024) EllapsedTime: 23.6 seconds RetCode: 0 Status: OK CheckDir: Rbowtie.Rcheck Warnings: 0