Package: Rbowtie Version: 1.42.0 Command: /home/biocbuild/bbs-3.18-bioc/R/bin/R CMD build --keep-empty-dirs --no-resave-data Rbowtie StartedAt: 2024-04-15 18:44:11 -0400 (Mon, 15 Apr 2024) EndedAt: 2024-04-15 18:45:36 -0400 (Mon, 15 Apr 2024) EllapsedTime: 85.1 seconds RetCode: 0 Status: OK PackageFile: Rbowtie_1.42.0.tar.gz PackageFileSize: 903.7 KiB