Package: Rbec Version: 1.10.0 Command: F:\biocbuild\bbs-3.18-bioc\R\bin\R.exe CMD check --no-multiarch --install=check:Rbec.install-out.txt --library=F:\biocbuild\bbs-3.18-bioc\R\library --no-vignettes --timings Rbec_1.10.0.tar.gz StartedAt: 2024-04-16 04:07:36 -0400 (Tue, 16 Apr 2024) EndedAt: 2024-04-16 04:12:37 -0400 (Tue, 16 Apr 2024) EllapsedTime: 301.1 seconds RetCode: 0 Status: OK CheckDir: Rbec.Rcheck Warnings: 0