Package: Rbec Version: 1.10.0 Command: /home/biocbuild/bbs-3.18-bioc/R/bin/R CMD check --install=check:Rbec.install-out.txt --library=/home/biocbuild/bbs-3.18-bioc/R/site-library --timings Rbec_1.10.0.tar.gz StartedAt: 2024-04-16 02:44:47 -0400 (Tue, 16 Apr 2024) EndedAt: 2024-04-16 02:49:58 -0400 (Tue, 16 Apr 2024) EllapsedTime: 310.7 seconds RetCode: 0 Status: OK CheckDir: Rbec.Rcheck Warnings: 0