Package: Rbec Version: 1.10.0 Command: /Library/Frameworks/R.framework/Resources/bin/R CMD check --install=check:Rbec.install-out.txt --library=/Library/Frameworks/R.framework/Resources/library --no-vignettes --timings Rbec_1.10.0.tar.gz StartedAt: 2024-04-16 07:28:47 -0400 (Tue, 16 Apr 2024) EndedAt: 2024-04-16 07:36:37 -0400 (Tue, 16 Apr 2024) EllapsedTime: 470.4 seconds RetCode: 0 Status: OK CheckDir: Rbec.Rcheck Warnings: 0