Package: Rbec Version: 1.10.0 Command: /Library/Frameworks/R.framework/Resources/bin/R CMD build --keep-empty-dirs --no-resave-data Rbec StartedAt: 2024-04-15 21:08:04 -0400 (Mon, 15 Apr 2024) EndedAt: 2024-04-15 21:10:53 -0400 (Mon, 15 Apr 2024) EllapsedTime: 168.8 seconds RetCode: 0 Status: OK PackageFile: Rbec_1.10.0.tar.gz PackageFileSize: 1.467 MiB