Package: Rbec Version: 1.10.0 Command: /Library/Frameworks/R.framework/Resources/bin/R CMD check --install=check:Rbec.install-out.txt --library=/Library/Frameworks/R.framework/Resources/library --no-vignettes --timings Rbec_1.10.0.tar.gz StartedAt: 2024-03-03 22:49:38 -0500 (Sun, 03 Mar 2024) EndedAt: 2024-03-03 22:54:19 -0500 (Sun, 03 Mar 2024) EllapsedTime: 280.5 seconds RetCode: 0 Status: OK CheckDir: Rbec.Rcheck Warnings: 0