Package: Rbec Version: 1.10.0 Command: /Library/Frameworks/R.framework/Resources/bin/R CMD build --keep-empty-dirs --no-resave-data Rbec StartedAt: 2024-03-03 17:56:24 -0500 (Sun, 03 Mar 2024) EndedAt: 2024-03-03 17:57:56 -0500 (Sun, 03 Mar 2024) EllapsedTime: 91.5 seconds RetCode: 0 Status: OK PackageFile: Rbec_1.10.0.tar.gz PackageFileSize: 1.467 MiB