Package: Rarr Version: 1.2.0 Command: /home/biocbuild/bbs-3.18-bioc/R/bin/R CMD INSTALL Rarr StartedAt: 2024-04-15 15:22:39 -0400 (Mon, 15 Apr 2024) EndedAt: 2024-04-15 15:23:20 -0400 (Mon, 15 Apr 2024) EllapsedTime: 40.6 seconds RetCode: 0 Status: OK