Package: Rarr Version: 1.2.0 Command: /Library/Frameworks/R.framework/Resources/bin/R CMD INSTALL Rarr StartedAt: 2024-03-03 15:13:02 -0500 (Sun, 03 Mar 2024) EndedAt: 2024-03-03 15:14:12 -0500 (Sun, 03 Mar 2024) EllapsedTime: 70.0 seconds RetCode: 0 Status: OK