Package: Rarr Version: 1.2.0 Command: /home/biocbuild/R/R-4.3.1/bin/R CMD build --keep-empty-dirs --no-resave-data Rarr StartedAt: 2023-11-02 04:57:15 -0000 (Thu, 02 Nov 2023) EndedAt: 2023-11-02 04:58:34 -0000 (Thu, 02 Nov 2023) EllapsedTime: 79.1 seconds RetCode: 0 Status: OK PackageFile: Rarr_1.2.0.tar.gz PackageFileSize: 1.271 MiB