Package: RankProd Version: 3.28.0 Command: /home/biocbuild/bbs-3.18-bioc/R/bin/R CMD check --install=check:RankProd.install-out.txt --library=/home/biocbuild/bbs-3.18-bioc/R/site-library --timings RankProd_3.28.0.tar.gz StartedAt: 2024-04-16 02:43:50 -0400 (Tue, 16 Apr 2024) EndedAt: 2024-04-16 02:44:39 -0400 (Tue, 16 Apr 2024) EllapsedTime: 48.3 seconds RetCode: 0 Status: OK CheckDir: RankProd.Rcheck Warnings: 0