Package: RandomWalkRestartMH Version: 1.22.0 Command: F:\biocbuild\bbs-3.18-bioc\R\bin\R.exe CMD check --no-multiarch --install=check:RandomWalkRestartMH.install-out.txt --library=F:\biocbuild\bbs-3.18-bioc\R\library --no-vignettes --timings RandomWalkRestartMH_1.22.0.tar.gz StartedAt: 2024-03-06 05:31:55 -0500 (Wed, 06 Mar 2024) EndedAt: 2024-03-06 05:33:05 -0500 (Wed, 06 Mar 2024) EllapsedTime: 69.9 seconds RetCode: 0 Status: WARNINGS CheckDir: RandomWalkRestartMH.Rcheck Warnings: 1