Package: RUVnormalize Version: 1.36.0 Command: /Library/Frameworks/R.framework/Resources/bin/R CMD INSTALL RUVnormalize StartedAt: 2024-04-15 15:05:26 -0400 (Mon, 15 Apr 2024) EndedAt: 2024-04-15 15:06:00 -0400 (Mon, 15 Apr 2024) EllapsedTime: 34.2 seconds RetCode: 0 Status: OK