Package: RUVcorr Version: 1.34.0 Command: rm -rf RUVcorr.buildbin-libdir && mkdir RUVcorr.buildbin-libdir && F:\biocbuild\bbs-3.18-bioc\R\bin\R.exe CMD INSTALL --build --library=RUVcorr.buildbin-libdir RUVcorr_1.34.0.tar.gz StartedAt: 2024-04-16 07:36:40 -0400 (Tue, 16 Apr 2024) EndedAt: 2024-04-16 07:36:49 -0400 (Tue, 16 Apr 2024) EllapsedTime: 9.1 seconds RetCode: 0 Status: OK PackageFile: RUVcorr_1.34.0.zip PackageFileSize: 273.2 KiB