Package: RUVcorr Version: 1.34.0 Command: /home/biocbuild/bbs-3.18-bioc/R/bin/R CMD INSTALL RUVcorr StartedAt: 2024-04-15 15:18:28 -0400 (Mon, 15 Apr 2024) EndedAt: 2024-04-15 15:18:32 -0400 (Mon, 15 Apr 2024) EllapsedTime: 3.8 seconds RetCode: 0 Status: OK