Package: RUVcorr Version: 1.34.0 Command: /Library/Frameworks/R.framework/Resources/bin/R CMD build --keep-empty-dirs --no-resave-data RUVcorr StartedAt: 2024-04-15 21:30:52 -0400 (Mon, 15 Apr 2024) EndedAt: 2024-04-15 21:32:15 -0400 (Mon, 15 Apr 2024) EllapsedTime: 82.2 seconds RetCode: 0 Status: OK PackageFile: RUVcorr_1.34.0.tar.gz PackageFileSize: 671.2 KiB