Package: RUVSeq Version: 1.36.0 Command: /home/biocbuild/bbs-3.18-bioc/R/bin/R CMD INSTALL RUVSeq StartedAt: 2024-04-15 15:25:50 -0400 (Mon, 15 Apr 2024) EndedAt: 2024-04-15 15:26:31 -0400 (Mon, 15 Apr 2024) EllapsedTime: 40.9 seconds RetCode: 0 Status: OK