Package: RTopper Version: 1.48.0 Command: /Library/Frameworks/R.framework/Resources/bin/R CMD INSTALL RTopper StartedAt: 2024-03-03 15:34:52 -0500 (Sun, 03 Mar 2024) EndedAt: 2024-03-03 15:35:02 -0500 (Sun, 03 Mar 2024) EllapsedTime: 10.0 seconds RetCode: 0 Status: OK