Package: RTopper Version: 1.48.0 Command: /home/biocbuild/R/R-4.3.1/bin/R CMD build --keep-empty-dirs --no-resave-data RTopper StartedAt: 2023-11-02 05:35:30 -0000 (Thu, 02 Nov 2023) EndedAt: 2023-11-02 05:36:49 -0000 (Thu, 02 Nov 2023) EllapsedTime: 78.1 seconds RetCode: 0 Status: OK PackageFile: RTopper_1.48.0.tar.gz PackageFileSize: 1.342 MiB