Package: RTNsurvival Version: 1.26.0 Command: /Library/Frameworks/R.framework/Resources/bin/R CMD build --keep-empty-dirs --no-resave-data RTNsurvival StartedAt: 2024-03-03 18:07:16 -0500 (Sun, 03 Mar 2024) EndedAt: 2024-03-03 18:08:14 -0500 (Sun, 03 Mar 2024) EllapsedTime: 57.3 seconds RetCode: 0 Status: OK PackageFile: RTNsurvival_1.26.0.tar.gz PackageFileSize: 733 KiB